BEGIN:VCALENDAR
VERSION:2.0
PRODID:-//Plone.org//NONSGML plone.app.event//EN
X-WR-TIMEZONE:Europe/Vienna
BEGIN:VEVENT
SUMMARY:Holzhandwerk (Schnitzen)\, 19.05.2026
DTSTART;TZID=Europe/Vienna:20260519T143000
DTEND;TZID=Europe/Vienna:20260519T163000
DTSTAMP:20260422T115723Z
UID:2f536d02485047b2a265192f3a5ca627@www.kikomelk.at
CONTACT:Valerie Mayr\, +43 664 9337 4775\, office@kikomelk.at
CREATED:20240423T090935Z
DESCRIPTION:Kleine Hände\, große Späne - wir entdecken ein altes Handwe
 rk neu.
LAST-MODIFIED:20260422T084640Z
LOCATION:Werkraum Melk e.V. Eingang Roseggerstraße\, Jakob Prandtauer-Str
 aße 11\, 3390 Melk
URL:https://www.kikomelk.at/programm/copy_of_holzhandwerk-17-02-2025
END:VEVENT
BEGIN:VTIMEZONE
TZID:Europe/Vienna
X-LIC-LOCATION:Europe/Vienna
BEGIN:DAYLIGHT
DTSTART:20260329T030000
TZNAME:CEST
TZOFFSETFROM:+0100
TZOFFSETTO:+0200
END:DAYLIGHT
END:VTIMEZONE
END:VCALENDAR
